BEGIN:VCALENDAR
VERSION:2.0
PRODID:-//International Vedanta Society - ECPv6.13.2.1//NONSGML v1.0//EN
CALSCALE:GREGORIAN
METHOD:PUBLISH
X-ORIGINAL-URL:https://ivsweb.org
X-WR-CALDESC:Events for International Vedanta Society
REFRESH-INTERVAL;VALUE=DURATION:PT1H
X-Robots-Tag:noindex
X-PUBLISHED-TTL:PT1H
BEGIN:VTIMEZONE
TZID:Asia/Kolkata
BEGIN:STANDARD
TZOFFSETFROM:+0530
TZOFFSETTO:+0530
TZNAME:IST
DTSTART:20240101T000000
END:STANDARD
END:VTIMEZONE
BEGIN:VEVENT
DTSTART;VALUE=DATE:20240103
DTEND;VALUE=DATE:20240104
DTSTAMP:20260423T193433
CREATED:20221227T111131Z
LAST-MODIFIED:20231221T112139Z
UID:6500-1704240000-1704326399@ivsweb.org
SUMMARY:BHAGVAN's 83rd Birthday
DESCRIPTION:
URL:https://ivsweb.org/event/bhagvans-82rd-birthday/
LOCATION:Venue: Mahajati Sadan\, 166\, Chittaranjan Avenue\, Kolkata: (Near Mahatma Gandhi Metro Station)\, 166\, Chittaranjan Avenue\, Kolkata\, West Bengal\, 700 006\, India
CATEGORIES:Get Together
ATTACH;FMTTYPE=image/jpeg:https://ivsweb.org/wp-content/uploads/2022/12/IMG-20231220-WA0000.jpg
END:VEVENT
END:VCALENDAR